BEGIN:VCALENDAR
VERSION:2.0
PRODID:-//Caritasverband Aschaffenburg Stadt und Landkreis e.V. - ECPv6.15.17//NONSGML v1.0//EN
CALSCALE:GREGORIAN
METHOD:PUBLISH
X-WR-CALNAME:Caritasverband Aschaffenburg Stadt und Landkreis e.V.
X-ORIGINAL-URL:https://www.caritas-aschaffenburg.de
X-WR-CALDESC:Veranstaltungen für Caritasverband Aschaffenburg Stadt und Landkreis e.V.
REFRESH-INTERVAL;VALUE=DURATION:PT1H
X-Robots-Tag:noindex
X-PUBLISHED-TTL:PT1H
BEGIN:VTIMEZONE
TZID:Europe/Berlin
BEGIN:DAYLIGHT
TZOFFSETFROM:+0100
TZOFFSETTO:+0200
TZNAME:CEST
DTSTART:20230326T010000
END:DAYLIGHT
BEGIN:STANDARD
TZOFFSETFROM:+0200
TZOFFSETTO:+0100
TZNAME:CET
DTSTART:20231029T010000
END:STANDARD
BEGIN:DAYLIGHT
TZOFFSETFROM:+0100
TZOFFSETTO:+0200
TZNAME:CEST
DTSTART:20240331T010000
END:DAYLIGHT
BEGIN:STANDARD
TZOFFSETFROM:+0200
TZOFFSETTO:+0100
TZNAME:CET
DTSTART:20241027T010000
END:STANDARD
BEGIN:DAYLIGHT
TZOFFSETFROM:+0100
TZOFFSETTO:+0200
TZNAME:CEST
DTSTART:20250330T010000
END:DAYLIGHT
BEGIN:STANDARD
TZOFFSETFROM:+0200
TZOFFSETTO:+0100
TZNAME:CET
DTSTART:20251026T010000
END:STANDARD
END:VTIMEZONE
BEGIN:VEVENT
DTSTART;TZID=Europe/Berlin:20240918T100000
DTEND;TZID=Europe/Berlin:20240918T150000
DTSTAMP:20260421T125722
CREATED:20240909T121122Z
LAST-MODIFIED:20240909T121157Z
UID:10000083-1726653600-1726671600@www.caritas-aschaffenburg.de
SUMMARY:Frieden beginnt bei mir!
DESCRIPTION:Wo beginnt Frieden? \nDer Wunsch nach Frieden ist größer denn je.\nDoch wo beginnt er?\nWir alle können einen kleinen Teil dazu beitragen. Wie das gelingen kann\, zeigen Mitarbeitende der Caritas in Deutschland\, Europa und der ganzen Welt – denn sie leisten seit über 125 Jahren Friedensarbeit. \nUm dem Jahresmotto der Caritas auch in Aschaffenburg Raum und Zeit zu geben\, laden wir ein zu einem\nInfo- und Mitmachstand\nam Mittwoch\, 18.09.2024\nvon 10-15 Uhr\nvor der Buchhandlung Diekmann in der Herstallstraße \nNeben eine Spiegelaktion können sich die Besucher*innen Friedenstauben falten und mit Friedenswünschen beschriften. \nHerzliche Einladung zum Vorbeischauen!
URL:https://www.caritas-aschaffenburg.de/event/frieden-beginnt-bei-mir/
LOCATION:Herstallstraße Aschaffenburg\, Herstallstraße\, Aschaffenburg\, Bayern\, 63739
END:VEVENT
END:VCALENDAR